BEGIN:VCALENDAR
VERSION:2.0
PRODID:-//organisierte autonomie Stuttgart - ECPv6.15.20//NONSGML v1.0//EN
CALSCALE:GREGORIAN
METHOD:PUBLISH
X-WR-CALNAME:organisierte autonomie Stuttgart
X-ORIGINAL-URL:https://stuttgart.organisierte-autonomie.org
X-WR-CALDESC:Veranstaltungen für organisierte autonomie Stuttgart
REFRESH-INTERVAL;VALUE=DURATION:PT1H
X-Robots-Tag:noindex
X-PUBLISHED-TTL:PT1H
BEGIN:VTIMEZONE
TZID:Europe/Berlin
BEGIN:DAYLIGHT
TZOFFSETFROM:+0100
TZOFFSETTO:+0200
TZNAME:CEST
DTSTART:20250330T010000
END:DAYLIGHT
BEGIN:STANDARD
TZOFFSETFROM:+0200
TZOFFSETTO:+0100
TZNAME:CET
DTSTART:20251026T010000
END:STANDARD
BEGIN:DAYLIGHT
TZOFFSETFROM:+0100
TZOFFSETTO:+0200
TZNAME:CEST
DTSTART:20260329T010000
END:DAYLIGHT
BEGIN:STANDARD
TZOFFSETFROM:+0200
TZOFFSETTO:+0100
TZNAME:CET
DTSTART:20261025T010000
END:STANDARD
BEGIN:DAYLIGHT
TZOFFSETFROM:+0100
TZOFFSETTO:+0200
TZNAME:CEST
DTSTART:20270328T010000
END:DAYLIGHT
BEGIN:STANDARD
TZOFFSETFROM:+0200
TZOFFSETTO:+0100
TZNAME:CET
DTSTART:20271031T010000
END:STANDARD
BEGIN:DAYLIGHT
TZOFFSETFROM:+0100
TZOFFSETTO:+0200
TZNAME:CEST
DTSTART:20280326T010000
END:DAYLIGHT
BEGIN:STANDARD
TZOFFSETFROM:+0200
TZOFFSETTO:+0100
TZNAME:CET
DTSTART:20281029T010000
END:STANDARD
END:VTIMEZONE
BEGIN:VEVENT
DTSTART;TZID=Europe/Berlin:20261103T180000
DTEND;TZID=Europe/Berlin:20261103T200000
DTSTAMP:20260420T152757
CREATED:20260311T160849Z
LAST-MODIFIED:20260330T080349Z
UID:10000264-1793728800-1793736000@stuttgart.organisierte-autonomie.org
SUMMARY:Kriegsdienst verweigern! Beratung zur Kriegsdienstverweigerung
DESCRIPTION:Deutschland soll kriegstüchtig werden. Neben massivem Sozialabbau\, mit dem die Aufrüstung finanziert wird\, braucht es nun v.a.Menschenmaterial um die Bundeswehr personell aufzustocken. \nHierzu wurde die sogenannte Wehrpflicht jüngst wieder eingeführt\, so dass im Kriegsfall von heute auf morgen Menschen an die Waffe gezwungen werden können.\nBesonders junge Menschen bedrängt die Bundeswehr aktuell\, indem sie offensiv an Schulen und auf unzähligen Werbetafeln wirbt und verpflichtende Fragebögen an 18-Jährige verschickt\, um ihre Bereitschaft zum „Dienst an der Waffe“ zu checken. \nKEIN BOCK KANONENFUTTER ZU WERDEN?\nAußerdem bist Du: \n\nmännlich\n18-60 Jahre alt\nnicht ausgemustert\n(gilt auch\, wenn du deinen Ausmusterungsbescheid nicht mehr hast – die Bundeswehr löscht den aus Datenschutzgründen nach einigen Jahren)\nggf. Reservist\, der nicht zurück zum „Bund“ möchte DANN KANNST DU DEN KRIEGSDIENST VERWEIGERN!\n\nWie das geht und was du tun kannst\, wenn du den Fragebogen erhältst\, erfährst Du in unserer Beratung zur Kriegsdienstverweigerung: \n\nImmer am 1. Dienstag im Monat\n18-20 Uhr\nStadtteilzentrum Gasparitsch (Rotenbergstraße 125\, U4 Ostendplatz\, U9 Raitelsberg)\nverweigern@organisierte-autonomie.org
URL:https://stuttgart.organisierte-autonomie.org/termin/kriegsdienstverweigerungsberatung-2/2026-11-03/
LOCATION:Stadtteilzentrum Gasparitsch\, Rotenbergstr. 125\, Stuttgart\, 70190\, Germany
CATEGORIES:Krieg,Ungehorsam jetzt
ATTACH;FMTTYPE=image/webp:https://stuttgart.organisierte-autonomie.org/wp-content/uploads/2026/03/kriegsdienst-verweigern_1.webp
END:VEVENT
BEGIN:VEVENT
DTSTART;TZID=Europe/Berlin:20261201T180000
DTEND;TZID=Europe/Berlin:20261201T200000
DTSTAMP:20260420T152757
CREATED:20260311T160849Z
LAST-MODIFIED:20260330T080349Z
UID:10000265-1796148000-1796155200@stuttgart.organisierte-autonomie.org
SUMMARY:Kriegsdienst verweigern! Beratung zur Kriegsdienstverweigerung
DESCRIPTION:Deutschland soll kriegstüchtig werden. Neben massivem Sozialabbau\, mit dem die Aufrüstung finanziert wird\, braucht es nun v.a.Menschenmaterial um die Bundeswehr personell aufzustocken. \nHierzu wurde die sogenannte Wehrpflicht jüngst wieder eingeführt\, so dass im Kriegsfall von heute auf morgen Menschen an die Waffe gezwungen werden können.\nBesonders junge Menschen bedrängt die Bundeswehr aktuell\, indem sie offensiv an Schulen und auf unzähligen Werbetafeln wirbt und verpflichtende Fragebögen an 18-Jährige verschickt\, um ihre Bereitschaft zum „Dienst an der Waffe“ zu checken. \nKEIN BOCK KANONENFUTTER ZU WERDEN?\nAußerdem bist Du: \n\nmännlich\n18-60 Jahre alt\nnicht ausgemustert\n(gilt auch\, wenn du deinen Ausmusterungsbescheid nicht mehr hast – die Bundeswehr löscht den aus Datenschutzgründen nach einigen Jahren)\nggf. Reservist\, der nicht zurück zum „Bund“ möchte DANN KANNST DU DEN KRIEGSDIENST VERWEIGERN!\n\nWie das geht und was du tun kannst\, wenn du den Fragebogen erhältst\, erfährst Du in unserer Beratung zur Kriegsdienstverweigerung: \n\nImmer am 1. Dienstag im Monat\n18-20 Uhr\nStadtteilzentrum Gasparitsch (Rotenbergstraße 125\, U4 Ostendplatz\, U9 Raitelsberg)\nverweigern@organisierte-autonomie.org
URL:https://stuttgart.organisierte-autonomie.org/termin/kriegsdienstverweigerungsberatung-2/2026-12-01/
LOCATION:Stadtteilzentrum Gasparitsch\, Rotenbergstr. 125\, Stuttgart\, 70190\, Germany
CATEGORIES:Krieg,Ungehorsam jetzt
ATTACH;FMTTYPE=image/webp:https://stuttgart.organisierte-autonomie.org/wp-content/uploads/2026/03/kriegsdienst-verweigern_1.webp
END:VEVENT
BEGIN:VEVENT
DTSTART;TZID=Europe/Berlin:20270105T180000
DTEND;TZID=Europe/Berlin:20270105T200000
DTSTAMP:20260420T152757
CREATED:20260311T160849Z
LAST-MODIFIED:20260330T080349Z
UID:10000266-1799172000-1799179200@stuttgart.organisierte-autonomie.org
SUMMARY:Kriegsdienst verweigern! Beratung zur Kriegsdienstverweigerung
DESCRIPTION:Deutschland soll kriegstüchtig werden. Neben massivem Sozialabbau\, mit dem die Aufrüstung finanziert wird\, braucht es nun v.a.Menschenmaterial um die Bundeswehr personell aufzustocken. \nHierzu wurde die sogenannte Wehrpflicht jüngst wieder eingeführt\, so dass im Kriegsfall von heute auf morgen Menschen an die Waffe gezwungen werden können.\nBesonders junge Menschen bedrängt die Bundeswehr aktuell\, indem sie offensiv an Schulen und auf unzähligen Werbetafeln wirbt und verpflichtende Fragebögen an 18-Jährige verschickt\, um ihre Bereitschaft zum „Dienst an der Waffe“ zu checken. \nKEIN BOCK KANONENFUTTER ZU WERDEN?\nAußerdem bist Du: \n\nmännlich\n18-60 Jahre alt\nnicht ausgemustert\n(gilt auch\, wenn du deinen Ausmusterungsbescheid nicht mehr hast – die Bundeswehr löscht den aus Datenschutzgründen nach einigen Jahren)\nggf. Reservist\, der nicht zurück zum „Bund“ möchte DANN KANNST DU DEN KRIEGSDIENST VERWEIGERN!\n\nWie das geht und was du tun kannst\, wenn du den Fragebogen erhältst\, erfährst Du in unserer Beratung zur Kriegsdienstverweigerung: \n\nImmer am 1. Dienstag im Monat\n18-20 Uhr\nStadtteilzentrum Gasparitsch (Rotenbergstraße 125\, U4 Ostendplatz\, U9 Raitelsberg)\nverweigern@organisierte-autonomie.org
URL:https://stuttgart.organisierte-autonomie.org/termin/kriegsdienstverweigerungsberatung-2/2027-01-05/
LOCATION:Stadtteilzentrum Gasparitsch\, Rotenbergstr. 125\, Stuttgart\, 70190\, Germany
CATEGORIES:Krieg,Ungehorsam jetzt
ATTACH;FMTTYPE=image/webp:https://stuttgart.organisierte-autonomie.org/wp-content/uploads/2026/03/kriegsdienst-verweigern_1.webp
END:VEVENT
BEGIN:VEVENT
DTSTART;TZID=Europe/Berlin:20270202T180000
DTEND;TZID=Europe/Berlin:20270202T200000
DTSTAMP:20260420T152757
CREATED:20260311T160849Z
LAST-MODIFIED:20260330T080349Z
UID:10000267-1801591200-1801598400@stuttgart.organisierte-autonomie.org
SUMMARY:Kriegsdienst verweigern! Beratung zur Kriegsdienstverweigerung
DESCRIPTION:Deutschland soll kriegstüchtig werden. Neben massivem Sozialabbau\, mit dem die Aufrüstung finanziert wird\, braucht es nun v.a.Menschenmaterial um die Bundeswehr personell aufzustocken. \nHierzu wurde die sogenannte Wehrpflicht jüngst wieder eingeführt\, so dass im Kriegsfall von heute auf morgen Menschen an die Waffe gezwungen werden können.\nBesonders junge Menschen bedrängt die Bundeswehr aktuell\, indem sie offensiv an Schulen und auf unzähligen Werbetafeln wirbt und verpflichtende Fragebögen an 18-Jährige verschickt\, um ihre Bereitschaft zum „Dienst an der Waffe“ zu checken. \nKEIN BOCK KANONENFUTTER ZU WERDEN?\nAußerdem bist Du: \n\nmännlich\n18-60 Jahre alt\nnicht ausgemustert\n(gilt auch\, wenn du deinen Ausmusterungsbescheid nicht mehr hast – die Bundeswehr löscht den aus Datenschutzgründen nach einigen Jahren)\nggf. Reservist\, der nicht zurück zum „Bund“ möchte DANN KANNST DU DEN KRIEGSDIENST VERWEIGERN!\n\nWie das geht und was du tun kannst\, wenn du den Fragebogen erhältst\, erfährst Du in unserer Beratung zur Kriegsdienstverweigerung: \n\nImmer am 1. Dienstag im Monat\n18-20 Uhr\nStadtteilzentrum Gasparitsch (Rotenbergstraße 125\, U4 Ostendplatz\, U9 Raitelsberg)\nverweigern@organisierte-autonomie.org
URL:https://stuttgart.organisierte-autonomie.org/termin/kriegsdienstverweigerungsberatung-2/2027-02-02/
LOCATION:Stadtteilzentrum Gasparitsch\, Rotenbergstr. 125\, Stuttgart\, 70190\, Germany
CATEGORIES:Krieg,Ungehorsam jetzt
ATTACH;FMTTYPE=image/webp:https://stuttgart.organisierte-autonomie.org/wp-content/uploads/2026/03/kriegsdienst-verweigern_1.webp
END:VEVENT
END:VCALENDAR